BEGIN:VCALENDAR
VERSION:2.0
PRODID:-//BASICS SPORTS - ECPv6.15.16//NONSGML v1.0//EN
CALSCALE:GREGORIAN
METHOD:PUBLISH
X-ORIGINAL-URL:https://basicssports.com
X-WR-CALDESC:Events for BASICS SPORTS
REFRESH-INTERVAL;VALUE=DURATION:PT1H
X-Robots-Tag:noindex
X-PUBLISHED-TTL:PT1H
BEGIN:VTIMEZONE
TZID:America/Detroit
BEGIN:DAYLIGHT
TZOFFSETFROM:-0500
TZOFFSETTO:-0400
TZNAME:EDT
DTSTART:20240310T070000
END:DAYLIGHT
BEGIN:STANDARD
TZOFFSETFROM:-0400
TZOFFSETTO:-0500
TZNAME:EST
DTSTART:20241103T060000
END:STANDARD
BEGIN:DAYLIGHT
TZOFFSETFROM:-0500
TZOFFSETTO:-0400
TZNAME:EDT
DTSTART:20250309T070000
END:DAYLIGHT
BEGIN:STANDARD
TZOFFSETFROM:-0400
TZOFFSETTO:-0500
TZNAME:EST
DTSTART:20251102T060000
END:STANDARD
BEGIN:DAYLIGHT
TZOFFSETFROM:-0500
TZOFFSETTO:-0400
TZNAME:EDT
DTSTART:20260308T070000
END:DAYLIGHT
BEGIN:STANDARD
TZOFFSETFROM:-0400
TZOFFSETTO:-0500
TZNAME:EST
DTSTART:20261101T060000
END:STANDARD
END:VTIMEZONE
BEGIN:VEVENT
DTSTART;TZID=America/Detroit:20250914T173000
DTEND;TZID=America/Detroit:20251218T210000
DTSTAMP:20260422T212116
CREATED:20250729T171022Z
LAST-MODIFIED:20251216T022212Z
UID:10000092-1757871000-1766091600@basicssports.com
SUMMARY:Fall Teams - Fremont - Mons + Thurs
DESCRIPTION:Sophia is running our Xmas Clinics Dec 27 and 28 in Ferrysburg.  Grab a spot!! \nFINAL DAY in Fremont is Dec 18.  \nWith Sophia Wiard – 2024 MAC Player of the Year\n-Highlight clip; 40 vs Kent State.  Her Toledo team beat U of M 2 years in a row.
URL:https://basicssports.com/calendar-event/u-12-co-ed-spring-team-fremont/
LOCATION:Fremont\, 208 Hillcrest Drive\, Fremont\, MI\, 49412\, United States
CATEGORIES:Fall Ball
END:VEVENT
BEGIN:VEVENT
DTSTART;TZID=America/Detroit:20250630T000000
DTEND;TZID=America/Detroit:20250827T235900
DTSTAMP:20260422T212116
CREATED:20250729T170851Z
LAST-MODIFIED:20251007T193116Z
UID:10000061-1751241600-1756339140@basicssports.com
SUMMARY:Fremont Skills Clinics
DESCRIPTION:With Sophia Wiard:  MAC Player of the Year\n \n\n\nGreat Handles here! \,\nGreat Shooting – 40 vs Kent State here\nFall Skills schedule coming soon:  Mondays and Thursdays beginning in September
URL:https://basicssports.com/calendar-event/fremont-skills-clinics/
LOCATION:Fremont\, 208 Hillcrest Drive\, Fremont\, MI\, 49412\, United States
CATEGORIES:Skills Training
END:VEVENT
END:VCALENDAR