BEGIN:VCALENDAR
VERSION:2.0
PRODID:-//BASICS SPORTS - ECPv6.15.16//NONSGML v1.0//EN
CALSCALE:GREGORIAN
METHOD:PUBLISH
X-ORIGINAL-URL:https://basicssports.com
X-WR-CALDESC:Events for BASICS SPORTS
REFRESH-INTERVAL;VALUE=DURATION:PT1H
X-Robots-Tag:noindex
X-PUBLISHED-TTL:PT1H
BEGIN:VTIMEZONE
TZID:America/Detroit
BEGIN:DAYLIGHT
TZOFFSETFROM:-0500
TZOFFSETTO:-0400
TZNAME:EDT
DTSTART:20240310T070000
END:DAYLIGHT
BEGIN:STANDARD
TZOFFSETFROM:-0400
TZOFFSETTO:-0500
TZNAME:EST
DTSTART:20241103T060000
END:STANDARD
BEGIN:DAYLIGHT
TZOFFSETFROM:-0500
TZOFFSETTO:-0400
TZNAME:EDT
DTSTART:20250309T070000
END:DAYLIGHT
BEGIN:STANDARD
TZOFFSETFROM:-0400
TZOFFSETTO:-0500
TZNAME:EST
DTSTART:20251102T060000
END:STANDARD
BEGIN:DAYLIGHT
TZOFFSETFROM:-0500
TZOFFSETTO:-0400
TZNAME:EDT
DTSTART:20260308T070000
END:DAYLIGHT
BEGIN:STANDARD
TZOFFSETFROM:-0400
TZOFFSETTO:-0500
TZNAME:EST
DTSTART:20261101T060000
END:STANDARD
END:VTIMEZONE
BEGIN:VEVENT
DTSTART;VALUE=DATE:20250804
DTEND;VALUE=DATE:20250807
DTSTAMP:20260422T133847
CREATED:20250805T212459Z
LAST-MODIFIED:20251007T192600Z
UID:10000140-1754265600-1754524799@basicssports.com
SUMMARY:Aug 5-6 : ROCK Skills (ALL Ages) + MS Boys
DESCRIPTION:These 2 kids will be there\, their skill speaks for itself. \n\n7 years old\n10 years old\n\nThe 1st 2 hours (Ball Handling and Shooting) are open to all ages and both genders. \nThe final hour is reserved for MS Boys.  Grades 5-8.
URL:https://basicssports.com/calendar-event/aug-5-6-rock-skills-all-ages-ms-boys/
LOCATION:Rockford: 6060 Belding Rd\, 6060 Belding Rd NE\, Rockford\, MI\, 49341\, United States
CATEGORIES:Camps
END:VEVENT
END:VCALENDAR