BEGIN:VCALENDAR
VERSION:2.0
PRODID:-//BASICS SPORTS - ECPv6.15.16//NONSGML v1.0//EN
CALSCALE:GREGORIAN
METHOD:PUBLISH
X-ORIGINAL-URL:https://basicssports.com
X-WR-CALDESC:Events for BASICS SPORTS
REFRESH-INTERVAL;VALUE=DURATION:PT1H
X-Robots-Tag:noindex
X-PUBLISHED-TTL:PT1H
BEGIN:VTIMEZONE
TZID:America/Detroit
BEGIN:DAYLIGHT
TZOFFSETFROM:-0500
TZOFFSETTO:-0400
TZNAME:EDT
DTSTART:20250309T070000
END:DAYLIGHT
BEGIN:STANDARD
TZOFFSETFROM:-0400
TZOFFSETTO:-0500
TZNAME:EST
DTSTART:20251102T060000
END:STANDARD
BEGIN:DAYLIGHT
TZOFFSETFROM:-0500
TZOFFSETTO:-0400
TZNAME:EDT
DTSTART:20260308T070000
END:DAYLIGHT
BEGIN:STANDARD
TZOFFSETFROM:-0400
TZOFFSETTO:-0500
TZNAME:EST
DTSTART:20261101T060000
END:STANDARD
BEGIN:DAYLIGHT
TZOFFSETFROM:-0500
TZOFFSETTO:-0400
TZNAME:EDT
DTSTART:20270314T070000
END:DAYLIGHT
BEGIN:STANDARD
TZOFFSETFROM:-0400
TZOFFSETTO:-0500
TZNAME:EST
DTSTART:20271107T060000
END:STANDARD
END:VTIMEZONE
BEGIN:VEVENT
DTSTART;TZID=America/Detroit:20260315T173000
DTEND;TZID=America/Detroit:20261118T203000
DTSTAMP:20260423T045642
CREATED:20260318T170631Z
LAST-MODIFIED:20260325T120105Z
UID:10000009-1773595800-1795033800@basicssports.com
SUMMARY:Ferrysburg Pre-Season Prep Fall 2026
DESCRIPTION:School Try Out Dates\n\nMS Boys: late October after football ends\nHS Boys: the week of November 11\nHS Girls: the week of November 18\nMS Girls: mid to late January 2027\n\nOther Recommended Preparation\n\nPrivate 1 v 1 Training HERE\nThe Basics Mindset Training (Mental Strength) HERE
URL:https://basicssports.com/calendar-event/msboys-prep-2026/
LOCATION:Ferrysburg: 17520 Ridge Ave\, 17520 Ridge Ave.\, Spring Lake\, MI\, 49456\, United States
CATEGORIES:Pre-Season Prep
END:VEVENT
END:VCALENDAR