BEGIN:VCALENDAR
VERSION:2.0
PRODID:-//BASICS SPORTS - ECPv6.15.16//NONSGML v1.0//EN
CALSCALE:GREGORIAN
METHOD:PUBLISH
X-WR-CALNAME:BASICS SPORTS
X-ORIGINAL-URL:https://basicssports.com
X-WR-CALDESC:Events for BASICS SPORTS
REFRESH-INTERVAL;VALUE=DURATION:PT1H
X-Robots-Tag:noindex
X-PUBLISHED-TTL:PT1H
BEGIN:VTIMEZONE
TZID:America/Detroit
BEGIN:DAYLIGHT
TZOFFSETFROM:-0500
TZOFFSETTO:-0400
TZNAME:EDT
DTSTART:20240310T070000
END:DAYLIGHT
BEGIN:STANDARD
TZOFFSETFROM:-0400
TZOFFSETTO:-0500
TZNAME:EST
DTSTART:20241103T060000
END:STANDARD
BEGIN:DAYLIGHT
TZOFFSETFROM:-0500
TZOFFSETTO:-0400
TZNAME:EDT
DTSTART:20250309T070000
END:DAYLIGHT
BEGIN:STANDARD
TZOFFSETFROM:-0400
TZOFFSETTO:-0500
TZNAME:EST
DTSTART:20251102T060000
END:STANDARD
BEGIN:DAYLIGHT
TZOFFSETFROM:-0500
TZOFFSETTO:-0400
TZNAME:EDT
DTSTART:20260308T070000
END:DAYLIGHT
BEGIN:STANDARD
TZOFFSETFROM:-0400
TZOFFSETTO:-0500
TZNAME:EST
DTSTART:20261101T060000
END:STANDARD
BEGIN:DAYLIGHT
TZOFFSETFROM:-0500
TZOFFSETTO:-0400
TZNAME:EDT
DTSTART:20270314T070000
END:DAYLIGHT
BEGIN:STANDARD
TZOFFSETFROM:-0400
TZOFFSETTO:-0500
TZNAME:EST
DTSTART:20271107T060000
END:STANDARD
END:VTIMEZONE
BEGIN:VEVENT
DTSTART;VALUE=DATE:20251004
DTEND;VALUE=DATE:20260308
DTSTAMP:20260423T065942
CREATED:20250729T170821Z
LAST-MODIFIED:20250914T165156Z
UID:10000051-1759536000-1772927999@basicssports.com
SUMMARY:Saturday Scrimmages
DESCRIPTION:Scrimmaging begins Oct 4 in Ferrysburg; NO COST for Fall Team players.  Get the code from Coach McGannon to register for no cost.         REGISTER \n\nNo admission\nNo officials\nNo zones\nNo plays\nNo teams\nNo coaches\nWe keep score but nobdoy cares\nA RECIPE FOR IMPROVED PLAY!\n\n\nOver 200 Basics players at the college level now\, 17 D-1\nOver 90% of Basics players make their school teams\nOver 150 freshmen and sophomores have jumped up to varsity since 2011
URL:https://basicssports.com/calendar-event/saturday-lakeshore-skills/
LOCATION:Ferrysburg: 17520 Ridge Ave\, 17520 Ridge Ave.\, Spring Lake\, MI\, 49456\, United States
CATEGORIES:Skills Training
END:VEVENT
END:VCALENDAR