BEGIN:VCALENDAR
VERSION:2.0
PRODID:-//BASICS SPORTS - ECPv6.15.16//NONSGML v1.0//EN
CALSCALE:GREGORIAN
METHOD:PUBLISH
X-ORIGINAL-URL:https://basicssports.com
X-WR-CALDESC:Events for BASICS SPORTS
REFRESH-INTERVAL;VALUE=DURATION:PT1H
X-Robots-Tag:noindex
X-PUBLISHED-TTL:PT1H
BEGIN:VTIMEZONE
TZID:America/Detroit
BEGIN:DAYLIGHT
TZOFFSETFROM:-0500
TZOFFSETTO:-0400
TZNAME:EDT
DTSTART:20240310T070000
END:DAYLIGHT
BEGIN:STANDARD
TZOFFSETFROM:-0400
TZOFFSETTO:-0500
TZNAME:EST
DTSTART:20241103T060000
END:STANDARD
BEGIN:DAYLIGHT
TZOFFSETFROM:-0500
TZOFFSETTO:-0400
TZNAME:EDT
DTSTART:20250309T070000
END:DAYLIGHT
BEGIN:STANDARD
TZOFFSETFROM:-0400
TZOFFSETTO:-0500
TZNAME:EST
DTSTART:20251102T060000
END:STANDARD
BEGIN:DAYLIGHT
TZOFFSETFROM:-0500
TZOFFSETTO:-0400
TZNAME:EDT
DTSTART:20260308T070000
END:DAYLIGHT
BEGIN:STANDARD
TZOFFSETFROM:-0400
TZOFFSETTO:-0500
TZNAME:EST
DTSTART:20261101T060000
END:STANDARD
END:VTIMEZONE
BEGIN:VEVENT
DTSTART;VALUE=DATE:20251005
DTEND;VALUE=DATE:20251215
DTSTAMP:20260419T182105
CREATED:20250826T204818Z
LAST-MODIFIED:20251007T141837Z
UID:10000164-1759622400-1765756799@basicssports.com
SUMMARY:Holland Skills - 518 Plasman
DESCRIPTION:
URL:https://basicssports.com/calendar-event/holland-plasman/
LOCATION:Holland\, 518 Plasman Ave\, Holland\, MI\, 49423\, United States
CATEGORIES:Skills Training
ATTACH;FMTTYPE=image/jpeg:https://basicssports.com/wp-content/uploads/2025/07/Summer-Camps-July-25-Rockford-.jpg
END:VEVENT
END:VCALENDAR