BEGIN:VCALENDAR
VERSION:2.0
PRODID:-//BASICS SPORTS - ECPv6.15.16//NONSGML v1.0//EN
CALSCALE:GREGORIAN
METHOD:PUBLISH
X-WR-CALNAME:BASICS SPORTS
X-ORIGINAL-URL:https://basicssports.com
X-WR-CALDESC:Events for BASICS SPORTS
REFRESH-INTERVAL;VALUE=DURATION:PT1H
X-Robots-Tag:noindex
X-PUBLISHED-TTL:PT1H
BEGIN:VTIMEZONE
TZID:America/Detroit
BEGIN:DAYLIGHT
TZOFFSETFROM:-0500
TZOFFSETTO:-0400
TZNAME:EDT
DTSTART:20240310T070000
END:DAYLIGHT
BEGIN:STANDARD
TZOFFSETFROM:-0400
TZOFFSETTO:-0500
TZNAME:EST
DTSTART:20241103T060000
END:STANDARD
BEGIN:DAYLIGHT
TZOFFSETFROM:-0500
TZOFFSETTO:-0400
TZNAME:EDT
DTSTART:20250309T070000
END:DAYLIGHT
BEGIN:STANDARD
TZOFFSETFROM:-0400
TZOFFSETTO:-0500
TZNAME:EST
DTSTART:20251102T060000
END:STANDARD
BEGIN:DAYLIGHT
TZOFFSETFROM:-0500
TZOFFSETTO:-0400
TZNAME:EDT
DTSTART:20260308T070000
END:DAYLIGHT
BEGIN:STANDARD
TZOFFSETFROM:-0400
TZOFFSETTO:-0500
TZNAME:EST
DTSTART:20261101T060000
END:STANDARD
BEGIN:DAYLIGHT
TZOFFSETFROM:-0500
TZOFFSETTO:-0400
TZNAME:EDT
DTSTART:20270314T070000
END:DAYLIGHT
BEGIN:STANDARD
TZOFFSETFROM:-0400
TZOFFSETTO:-0500
TZNAME:EST
DTSTART:20271107T060000
END:STANDARD
BEGIN:DAYLIGHT
TZOFFSETFROM:-0500
TZOFFSETTO:-0400
TZNAME:EDT
DTSTART:20280312T070000
END:DAYLIGHT
BEGIN:STANDARD
TZOFFSETFROM:-0400
TZOFFSETTO:-0500
TZNAME:EST
DTSTART:20281105T060000
END:STANDARD
END:VTIMEZONE
BEGIN:VEVENT
DTSTART;TZID=America/Detroit:20250822T170000
DTEND;TZID=America/Detroit:20270101T180000
DTSTAMP:20260423T122452
CREATED:20250808T201958Z
LAST-MODIFIED:20260413T165007Z
UID:10000167-1755882000-1798826400@basicssports.com
SUMMARY:PRIVATES with COACH SOPHIA WIARD
DESCRIPTION:1 or 2 players permitted\, not extra for 2nd player \n\nMany privates are BY APPOINTMENT.  Please inquire to 616 402-1600\nCoach Sophia Wiard is the 2024 MAC Player of the Year (U of Toledo) and one of the best players in the country (D1).  Her team beat U of M 2 years running and played in the Big Dance\, beating Iowa State in the 1st round!\nHighlighted in Basics Mental Strength Champions clip.  Highly recommended training as players attempt to reach their potential.\n\nNOTE:  Sophia runs Christmas Clinics Noon-400 on Dec 27 and 28 right after her privates.  MIDDLE SCHOOL GIRLS- these sessions are just few days away from your middle school try outs and seasons.
URL:https://basicssports.com/calendar-event/privates-sophia-wiard/
LOCATION:Ferrysburg: 17520 Ridge Ave\, 17520 Ridge Ave.\, Spring Lake\, MI\, 49456\, United States
CATEGORIES:Private Training-Sophia Wiard
ATTACH;FMTTYPE=image/jpeg:https://basicssports.com/wp-content/uploads/2025/10/Keira-and-Sophia-Sept-2025-min.jpg
END:VEVENT
BEGIN:VEVENT
DTSTART;VALUE=DATE:20260101
DTEND;VALUE=DATE:20270102
DTSTAMP:20260423T122452
CREATED:20250825T192755Z
LAST-MODIFIED:20260321T223657Z
UID:10000163-1767225600-1798847999@basicssports.com
SUMMARY:COACH McGANNON - BB\, Mindset\, Golf
DESCRIPTION:Examples of Winning Outcomes.  Scroll to bottom for Mindset Registrations \n\nWest Catholic 42. Notre Dame Prep 14.    Nov 29\, 2025 @ Ford Field\n8th State Championship since 2010 – ie The best football program in Michigan \nWest Catholic has been thru the Mindset training 3 X.  \n\n\nTeam and program training by appointment only. Please inquire to 616 402-1600\nPrivates are good for 1 or 2 players.  Same cost.\nCoach McGannon founded Basics in 2006.  Over 200 graduates are playing or have played in college\, 17 D-1.   Coach played 2 sports in the Ivy League at Dartmouth\, basketball and golf.  His 5 years of pro golf included 2 trips to the PGA Tour Q-school\, where the Basics Mindset was born.  He trained with legendary Coach Pete Carril\, and his college coach Gary Walters was Carril’s protege.  Walters went on to a 20 year career at Princeton as Athletic Director.  Coach McGannon’s bio here.\n\nCoach demonstrating BB Skills via video.  His skills training is NOT POSTED; please inquire to grab some time.  The shooting videos below speak for themselves. \n\nKeep the ball up when shooting – advanced players only\nDefensive Positioning – a MUST HAVE skill for competition\nThe Jump Hook – every post player should possess a jump hook going BOTH ways\nFree Throws – the skill that wins (and loses) more games than any other\nBall Control\nThe Step Back\nBasics Skills channel here\n\nMindset sessions expire 48 hours before the date.  I need time to analyze the assessment. \nCall 616 402-1600 to set up a time. \n \n                   Rockford U14 Travel Hockey Club           Cornerstone U. Track and Field \nGolf\nYes GOLF!!  Coach has won the Muskegon County 4 X\, qualified for the Michigan Amateur 3 X\, US Open sectional qualifier once\, D-1 at Dartmouth\, PGA Tour Q-School twice.  Qualified for the NCAA Championship.   NOTE:  ALL GOLF LESSONS are by appointment and the emphasis will be on the SHORT GAME\, particularly Chipping and putting.  EX HERE.  More Golf info here.    Call 616 402-1600 for more details or to set up a time.  \n\nSimple and effective Chip and Run shot here.\nThe key element of the Pre-Shot Routine (IDENTICAL to Free throws!)\n\n  \n 
URL:https://basicssports.com/calendar-event/privates-with-jim-mcgannon/
LOCATION:Ferrysburg: 17520 Ridge Ave\, 17520 Ridge Ave.\, Spring Lake\, MI\, 49456\, United States
CATEGORIES:Private-Jim McGannon
ATTACH;FMTTYPE=image/jpeg:https://basicssports.com/wp-content/uploads/2023/08/GR-West-Catholic-High-School-2023-web-scaled.jpg
END:VEVENT
END:VCALENDAR