BEGIN:VCALENDAR
VERSION:2.0
PRODID:-//BASICS SPORTS - ECPv6.15.16//NONSGML v1.0//EN
CALSCALE:GREGORIAN
METHOD:PUBLISH
X-WR-CALNAME:BASICS SPORTS
X-ORIGINAL-URL:https://basicssports.com
X-WR-CALDESC:Events for BASICS SPORTS
REFRESH-INTERVAL;VALUE=DURATION:PT1H
X-Robots-Tag:noindex
X-PUBLISHED-TTL:PT1H
BEGIN:VTIMEZONE
TZID:America/Detroit
BEGIN:DAYLIGHT
TZOFFSETFROM:-0500
TZOFFSETTO:-0400
TZNAME:EDT
DTSTART:20250309T070000
END:DAYLIGHT
BEGIN:STANDARD
TZOFFSETFROM:-0400
TZOFFSETTO:-0500
TZNAME:EST
DTSTART:20251102T060000
END:STANDARD
BEGIN:DAYLIGHT
TZOFFSETFROM:-0500
TZOFFSETTO:-0400
TZNAME:EDT
DTSTART:20260308T070000
END:DAYLIGHT
BEGIN:STANDARD
TZOFFSETFROM:-0400
TZOFFSETTO:-0500
TZNAME:EST
DTSTART:20261101T060000
END:STANDARD
BEGIN:DAYLIGHT
TZOFFSETFROM:-0500
TZOFFSETTO:-0400
TZNAME:EDT
DTSTART:20270314T070000
END:DAYLIGHT
BEGIN:STANDARD
TZOFFSETFROM:-0400
TZOFFSETTO:-0500
TZNAME:EST
DTSTART:20271107T060000
END:STANDARD
END:VTIMEZONE
BEGIN:VEVENT
DTSTART;TZID=America/Detroit:20260414T170000
DTEND;TZID=America/Detroit:20260627T170000
DTSTAMP:20260423T105148
CREATED:20251222T171615Z
LAST-MODIFIED:20260417T120910Z
UID:10000182-1776186000-1782579600@basicssports.com
SUMMARY:3rd/4th and 5th/6th Spring Teams:  Tues/Thurs
DESCRIPTION:Limited to 14 players.  Players have a choice of 1 or 2 practices a week.  Ends June 6.  \nINCLUDES – NO TRAVEL\, 2 Basics tourneys in Fruitport (May 16 and June 6) (NO ADMISSION)\, Basics uniform and shooting shirt\, introduction to the Basics Mindset (mental strength training)\, no required weekend play\, \nOTHER SPRING TEAMS\n\nRockford: 2 teams:  5th/6th and 7th/8th Graders. REGISTER \nWhitehall: 2 teams:  MS Girls and HS Girls w/Sophia Wiard.  REGISTER\nFruitport: 2 teams: MS and HS Boys  REGISTER\n\nVENMO ALSO ACCEPTED\n\n@basics-sports-1\nPlease put player name\, cell\, email\, grade and school in the COMMENTS.  \nIf it’s a 1 day a week registration\, identify which day. \n\n			\n			\n				\n				\n				\n				\n			\n				\n				\n				\n				\n				\n				\n				\n				\n				\n				\n				 ––
URL:https://basicssports.com/calendar-event/3-4-and-5-6-ferrysburg/
LOCATION:Ferrysburg: 17520 Ridge Ave\, 17520 Ridge Ave.\, Spring Lake\, MI\, 49456\, United States
CATEGORIES:Spring Teams
END:VEVENT
END:VCALENDAR