BEGIN:VCALENDAR
VERSION:2.0
PRODID:-//BASICS SPORTS - ECPv6.15.16//NONSGML v1.0//EN
CALSCALE:GREGORIAN
METHOD:PUBLISH
X-WR-CALNAME:BASICS SPORTS
X-ORIGINAL-URL:https://basicssports.com
X-WR-CALDESC:Events for BASICS SPORTS
REFRESH-INTERVAL;VALUE=DURATION:PT1H
X-Robots-Tag:noindex
X-PUBLISHED-TTL:PT1H
BEGIN:VTIMEZONE
TZID:America/Detroit
BEGIN:DAYLIGHT
TZOFFSETFROM:-0500
TZOFFSETTO:-0400
TZNAME:EDT
DTSTART:20240310T070000
END:DAYLIGHT
BEGIN:STANDARD
TZOFFSETFROM:-0400
TZOFFSETTO:-0500
TZNAME:EST
DTSTART:20241103T060000
END:STANDARD
BEGIN:DAYLIGHT
TZOFFSETFROM:-0500
TZOFFSETTO:-0400
TZNAME:EDT
DTSTART:20250309T070000
END:DAYLIGHT
BEGIN:STANDARD
TZOFFSETFROM:-0400
TZOFFSETTO:-0500
TZNAME:EST
DTSTART:20251102T060000
END:STANDARD
BEGIN:DAYLIGHT
TZOFFSETFROM:-0500
TZOFFSETTO:-0400
TZNAME:EDT
DTSTART:20260308T070000
END:DAYLIGHT
BEGIN:STANDARD
TZOFFSETFROM:-0400
TZOFFSETTO:-0500
TZNAME:EST
DTSTART:20261101T060000
END:STANDARD
BEGIN:DAYLIGHT
TZOFFSETFROM:-0500
TZOFFSETTO:-0400
TZNAME:EDT
DTSTART:20270314T070000
END:DAYLIGHT
BEGIN:STANDARD
TZOFFSETFROM:-0400
TZOFFSETTO:-0500
TZNAME:EST
DTSTART:20271107T060000
END:STANDARD
END:VTIMEZONE
BEGIN:VEVENT
DTSTART;VALUE=DATE:20251020
DTEND;VALUE=DATE:20261218
DTSTAMP:20260423T062556
CREATED:20250729T171036Z
LAST-MODIFIED:20260423T011045Z
UID:10000095-1760918400-1797551999@basicssports.com
SUMMARY:Spring - Ferrysburg - WEDS
DESCRIPTION:Wednesdays\n\nPrivate Training ONLY with Coach Dylan\nEvery Weds thru June 3\nNOTE: these privates EXPIRE at 200 PM each Weds\n\nYou may also VENMO to @basics-sports-1 for training below and in the COMMENTS field put players name\, age\, school\, email and cell phone \n\nSunday Skills – REGISTER\nMonday Skills – REGISTER\nTuesday Skills – REGISTER\nWednesday Skills – see BELOW\nThursday Skills – REGISTER\nFridays – Private Training only call 616 402-1600\nSats – Games  REGISTER
URL:https://basicssports.com/calendar-event/fall-teams-ferrysburg-weds/
LOCATION:Ferrysburg: 17520 Ridge Ave\, 17520 Ridge Ave.\, Spring Lake\, MI\, 49456\, United States
CATEGORIES:Fall Ball
END:VEVENT
BEGIN:VEVENT
DTSTART;VALUE=DATE:20260301
DTEND;VALUE=DATE:20260608
DTSTAMP:20260423T062556
CREATED:20250729T171021Z
LAST-MODIFIED:20260420T130710Z
UID:10000090-1772323200-1780876799@basicssports.com
SUMMARY:SPRING - Ferrysburg - SUNDAYS
DESCRIPTION:Sundays\nNon Spring Team Players register and pay here.  You have a Per Diem option or a Package deal which saves almost 30%. \nYou may also VENMO to @basics-sports-1 for training below and in the COMMENTS field put players name\, age\, school\, email and cell phone. \n\nSunday Skills – BELOW\nMonday Skills – REGISTER\nTuesday Skills – REGISTER\nWednesday Skills – REGISTER\nThursday Skills – REGISTER\nFridays – Private Training.  Call 616 402-1600\nSats – Games  REGISTER
URL:https://basicssports.com/calendar-event/ferrysburg-sundays/
LOCATION:Ferrysburg: 17520 Ridge Ave\, 17520 Ridge Ave.\, Spring Lake\, MI\, 49456\, United States
CATEGORIES:Fall Ball
ATTACH;FMTTYPE=image/jpeg:https://basicssports.com/wp-content/uploads/2025/04/25-Spring-Teams-HS-Boys.jpg
END:VEVENT
BEGIN:VEVENT
DTSTART;VALUE=DATE:20260301
DTEND;VALUE=DATE:20260602
DTSTAMP:20260423T062556
CREATED:20250729T171022Z
LAST-MODIFIED:20260421T110848Z
UID:10000093-1772323200-1780358399@basicssports.com
SUMMARY:MONDAYS - Skills and Private Training
DESCRIPTION:Mondays\nYou may also VENMO to @basics-sports-1 for training below and in the COMMENTS field put players name\, age\, school\, email and cell phone \n\nSunday Skills – REGISTER\nMonday Skills – see BELOW\nTuesday Skills – REGISTER\nWednesday Skills – REGISTER\nThursday Skills – REGISTER\nFridays – Private Training only here\nSats – Games  REGISTER
URL:https://basicssports.com/calendar-event/fall-mondays-skills-private-training-and-mindset/
LOCATION:Ferrysburg: 17520 Ridge Ave\, 17520 Ridge Ave.\, Spring Lake\, MI\, 49456\, United States
CATEGORIES:Fall Ball
ATTACH;FMTTYPE=image/jpeg:https://basicssports.com/wp-content/uploads/2025/07/Rock-Sophia-Oct-25.jpg
END:VEVENT
BEGIN:VEVENT
DTSTART;VALUE=DATE:20260308
DTEND;VALUE=DATE:20260607
DTSTAMP:20260423T062556
CREATED:20250729T171021Z
LAST-MODIFIED:20260423T011517Z
UID:10000091-1772928000-1780790399@basicssports.com
SUMMARY:Skills and Spring Teams in Rockford
DESCRIPTION:  \n\nALL YEAR – Every Sunday \nSPRING TEAMS – Per diem attendance is permitted\nNOTE: FOR ADVANCED PLAYERS- Sundays at 100 PM we will split the gym with these advanced players (MS + HS ONLY) working with Alona Blackwell (4 year D-1 at Oakland) – Alona’s Skills on display here. (2019 GR Area Female Athlete of the Year)\n\nSummer Camps in Rockford – Early Bird ends April 15\n\nREGISTER HERE\n\nVENMO ALSO ACCEPTED\n\n@basics-sports-1\nIdentify chosen date in COMMENTS \nPlease put player name\, cell\, email\, grade and school in the COMMENTS.  \n\n 
URL:https://basicssports.com/calendar-event/rockford-1/
LOCATION:Rockford: 6060 Belding Rd\, 6060 Belding Rd NE\, Rockford\, MI\, 49341\, United States
CATEGORIES:Fall Ball
END:VEVENT
BEGIN:VEVENT
DTSTART;VALUE=DATE:20260315
DTEND;VALUE=DATE:20260607
DTSTAMP:20260423T062556
CREATED:20250729T170937Z
LAST-MODIFIED:20260423T011306Z
UID:10000078-1773532800-1780790399@basicssports.com
SUMMARY:Spring - Ferrysburg - THURSDAYS
DESCRIPTION:Thursdays\nFerrysburg: 3rd/4th Graders + 5th/6th Graders w/ Nathan Batts and Dylan Medendorp.  Tues + Thurs Several open spots  REGISTER \nPer Diem Spots open below.  \nYou may also VENMO to @basics-sports-1 for training below and in the COMMENTS field put players name\, age\, school\, email and cell phone \n\nSunday Skills – REGISTER\nMonday Skills – REGISTER\nTuesday Skills – REGISTER\nWednesday Skills – REGISTER\nThursday Skills – See BELOW\nFridays – Private Training only here.  Call 616 402-1600\nSats – Games  REGISTER
URL:https://basicssports.com/calendar-event/fall-teams-ferrysburg-thursdays/
LOCATION:Ferrysburg: 17520 Ridge Ave\, 17520 Ridge Ave.\, Spring Lake\, MI\, 49456\, United States
CATEGORIES:Fall Ball
END:VEVENT
END:VCALENDAR